BEGIN:VCALENDAR
VERSION:2.0
PRODID:-//Tukios.com/
BEGIN:VEVENT
UID:6aba8b71-acd1-4015-9781-cf577903803d@www.stanleyfuneralhomes.com
DTSTAMP:20260421T204901Z
DTSTART:20260426T190000Z
DTEND:20260426T200000Z
SUMMARY:Visitation
DESCRIPTION:
URL:https://www.stanleyfuneralhomes.com/obituaries/charlene-salyers
LOCATION:Revive Church 2020 Taft Highway  Dry Ridge KY 41035
GEO:38.676249;-84.6275083
END:VEVENT
END:VCALENDAR