BEGIN:VCALENDAR
VERSION:2.0
PRODID:-//Tukios.com/
BEGIN:VEVENT
UID:75bcf2ec-993f-4d32-972a-4df7f6b1df9c@www.stanleyfuneralhomes.com
DTSTAMP:20260421T204004Z
DTSTART:20260426T200000Z
DTEND:20260426T210000Z
SUMMARY:Celebration of Life
DESCRIPTION:
URL:https://www.stanleyfuneralhomes.com/obituaries/charlene-salyers
LOCATION:Revive Church 2020 Taft Highway  Dry Ridge KY 41035
GEO:38.676249;-84.6275083
END:VEVENT
END:VCALENDAR