BEGIN:VCALENDAR
VERSION:2.0
PRODID:-//Tukios.com/
BEGIN:VEVENT
UID:2a6a6294-b583-4e48-adcc-4001acd08a97@www.stanleyfuneralhomes.com
DTSTAMP:20260421T003502Z
DTSTART:20260422T140000Z
DTEND:20260422T160000Z
SUMMARY:Visitation
DESCRIPTION:
URL:https://www.stanleyfuneralhomes.com/obituaries/melinda-epperson
LOCATION:Crittenden Baptist Church 215 Russell Drive  Crittenden KY 41030
GEO:38.782525;-84.6060744
END:VEVENT
END:VCALENDAR