BEGIN:VCALENDAR
VERSION:2.0
PRODID:-//Tukios.com/
BEGIN:VEVENT
UID:28426e15-d1bb-45d9-a07d-ed897490736c@www.stanleyfuneralhomes.com
DTSTAMP:20260421T003301Z
DTSTART:20260422T160000Z
DTEND:20260422T170000Z
SUMMARY:Funeral Service
DESCRIPTION:
URL:https://www.stanleyfuneralhomes.com/obituaries/melinda-epperson
LOCATION:Crittenden Baptist Church 215 Russell Drive  Crittenden KY 41030
GEO:38.782525;-84.6060744
END:VEVENT
END:VCALENDAR